BEGIN:VCALENDAR
VERSION:2.0
PRODID:-//LiDTAK - ECPv6.4.0.1//NONSGML v1.0//EN
CALSCALE:GREGORIAN
METHOD:PUBLISH
X-ORIGINAL-URL:https://lidtak.org
X-WR-CALDESC:Events for LiDTAK
REFRESH-INTERVAL;VALUE=DURATION:PT1H
X-Robots-Tag:noindex
X-PUBLISHED-TTL:PT1H
BEGIN:VTIMEZONE
TZID:UTC
BEGIN:STANDARD
TZOFFSETFROM:+0000
TZOFFSETTO:+0000
TZNAME:UTC
DTSTART:20240101T000000
END:STANDARD
END:VTIMEZONE
BEGIN:VEVENT
DTSTART;VALUE=DATE:20240419
DTEND;VALUE=DATE:20250401
DTSTAMP:20260424T053336
CREATED:20230111T040750Z
LAST-MODIFIED:20240514T071328Z
UID:252-1713484800-1743465599@lidtak.org
SUMMARY:Liver Day - 19th April 2024
DESCRIPTION:On April 19th we celebrate World Liver Day and honor everything it does for our bodies. Just some of the liver’s major roles include the production of bile (which helps break down fats during digestion)\, detoxification of the blood supply\, and storage of essential vitamins. \nWe have partnered with Aga Khan University Hospital and Gilead Sciences to ensure the day. \nTheme: Keep your liver healthy and disease-free. Purpose: To emphasize the importance of regular health check-ups as liver-related diseases.
URL:https://lidtak.org/event/architecture-week/
LOCATION:New York\, 8 King Street\, NY\, 101\, United States
CATEGORIES:Seminars
ATTACH;FMTTYPE=image/webp:https://lidtak.org/wp-content/uploads/2023/01/liver_madterbundles-3-677-1.webp
END:VEVENT
BEGIN:VEVENT
DTSTART;TZID=UTC:20241001T080000
DTEND;TZID=UTC:20241001T170000
DTSTAMP:20260424T053336
CREATED:20230111T041159Z
LAST-MODIFIED:20240514T071853Z
UID:263-1727769600-1727802000@lidtak.org
SUMMARY:Oct - Liver Cancer Awareness Month
DESCRIPTION:October is Liver Cancer Awareness Month. Help us spread awareness about #LiverCancer so that people can get diagnosed early and save lives – Ask your doctor about liver cancer surveillance today. \nA month devoted to the importance of liver awareness gives you the opportunity to focus on the important role the liver plays. You can also learn about different forms of liver disease including the threat posed by obesity and fatty livers. \nMuch of the associations’s emphasis during October continues to point to the cause and treatment for liver diseases like hepatitis A\, B and C; cirrhosis\, biliary atresia and liver cancer. \n.
URL:https://lidtak.org/event/architecture-club-meetup/
CATEGORIES:Seminars
ATTACH;FMTTYPE=image/png:https://lidtak.org/wp-content/uploads/2023/01/livercancer.png
ORGANIZER;CN="Gary Jones":MAILTO:events@example.com
END:VEVENT
END:VCALENDAR